BEGIN:VCALENDAR
VERSION:2.0
PRODID:-//Tukios.com/
BEGIN:VEVENT
UID:a197b1c8-098d-42ac-938c-a8fca28dcc78@www.wonderlyhorvathhanesfuneralhome.com
DTSTAMP:20260423T205141Z
DTSTART:20260427T190000Z
DTEND:20260427T230000Z
SUMMARY:Memorial Gathering
DESCRIPTION:
URL:https://www.wonderlyhorvathhanesfuneralhome.com/obituaries/brandon-stines
LOCATION:Pontifex 416 West State Street  Fremont OH 43420
GEO:41.3482379;-83.1148594
END:VEVENT
END:VCALENDAR